BEGIN:VCALENDAR
VERSION:2.0
PRODID:-//Hardin County Chamber of Commerce - ECPv6.15.20//NONSGML v1.0//EN
CALSCALE:GREGORIAN
METHOD:PUBLISH
X-WR-CALNAME:Hardin County Chamber of Commerce
X-ORIGINAL-URL:https://hardinchamber.com
X-WR-CALDESC:Events for Hardin County Chamber of Commerce
REFRESH-INTERVAL;VALUE=DURATION:PT1H
X-Robots-Tag:noindex
X-PUBLISHED-TTL:PT1H
BEGIN:VTIMEZONE
TZID:America/Kentucky/Louisville
BEGIN:DAYLIGHT
TZOFFSETFROM:-0500
TZOFFSETTO:-0400
TZNAME:EDT
DTSTART:20200308T070000
END:DAYLIGHT
BEGIN:STANDARD
TZOFFSETFROM:-0400
TZOFFSETTO:-0500
TZNAME:EST
DTSTART:20201101T060000
END:STANDARD
BEGIN:DAYLIGHT
TZOFFSETFROM:-0500
TZOFFSETTO:-0400
TZNAME:EDT
DTSTART:20210314T070000
END:DAYLIGHT
BEGIN:STANDARD
TZOFFSETFROM:-0400
TZOFFSETTO:-0500
TZNAME:EST
DTSTART:20211107T060000
END:STANDARD
BEGIN:DAYLIGHT
TZOFFSETFROM:-0500
TZOFFSETTO:-0400
TZNAME:EDT
DTSTART:20220313T070000
END:DAYLIGHT
BEGIN:STANDARD
TZOFFSETFROM:-0400
TZOFFSETTO:-0500
TZNAME:EST
DTSTART:20221106T060000
END:STANDARD
BEGIN:DAYLIGHT
TZOFFSETFROM:-0500
TZOFFSETTO:-0400
TZNAME:EDT
DTSTART:20230312T070000
END:DAYLIGHT
BEGIN:STANDARD
TZOFFSETFROM:-0400
TZOFFSETTO:-0500
TZNAME:EST
DTSTART:20231105T060000
END:STANDARD
BEGIN:DAYLIGHT
TZOFFSETFROM:-0500
TZOFFSETTO:-0400
TZNAME:EDT
DTSTART:20240310T070000
END:DAYLIGHT
BEGIN:STANDARD
TZOFFSETFROM:-0400
TZOFFSETTO:-0500
TZNAME:EST
DTSTART:20241103T060000
END:STANDARD
END:VTIMEZONE
BEGIN:VEVENT
DTSTART;TZID=America/Kentucky/Louisville:20230614T113000
DTEND;TZID=America/Kentucky/Louisville:20230614T130000
DTSTAMP:20260422T232942
CREATED:20230609T172503Z
LAST-MODIFIED:20230609T172503Z
UID:10001964-1686742200-1686747600@hardinchamber.com
SUMMARY:Celebrate the Army’s Birthday with AUSA
DESCRIPTION:The Fort Knox Chapter of the Association of the United States Army is celebrating the 248th Birthday of the United States Army on June 14\, 2023 with a luncheon and program at the Saber & Quill on historic Fort Knox. \nThe keynote speaker is retired Sergeant Major of the Army Kenneth O. Preston\, who was the longest serving SMA during his distinguished 36-year military career. \nThe event is at 11:30am and tickets can be purchased by contacting Walter Meinshausen at 270-307-8897 or Gene Gudenkauf at 270-352-7797. \nAUSA Spring 2023 Kenneth O Preston Edit2 (1)
URL:https://hardinchamber.com/event/celebrate-the-armys-birthday-with-ausa/
LOCATION:Saber & Quill\, Chaffee Avenue\, Fort Knox\, KY\, 40121
CATEGORIES:Community Announcement,Promote
ATTACH;FMTTYPE=image/png:https://hardinchamber.com/wp-content/uploads/2016/06/fillLogo.png
ORGANIZER;CN="Fort Knox Chapter of AUSA":MAILTO:genegudenkauf68@gmail.com
GEO:37.8943922;-85.9536061
X-APPLE-STRUCTURED-LOCATION;VALUE=URI;X-ADDRESS=Saber & Quill Chaffee Avenue Fort Knox KY 40121;X-APPLE-RADIUS=500;X-TITLE=Chaffee Avenue:geo:-85.9536061,37.8943922
END:VEVENT
BEGIN:VEVENT
DTSTART;TZID=America/Kentucky/Louisville:20220426T113000
DTEND;TZID=America/Kentucky/Louisville:20220426T130000
DTSTAMP:20260422T232942
CREATED:20220407T173554Z
LAST-MODIFIED:20220407T173554Z
UID:10001889-1650972600-1650978000@hardinchamber.com
SUMMARY:AUSA TO CELEBRATE THE ARMY RESERVE BIRTHDAY
DESCRIPTION:Get your tickets for the Fort Knox Chapter\, AUSA (Association of the United States Army) Army Reserve 114th Birthday Celebration\, coming up April 26\, 2022. \nThe birthday luncheon will take place at the Saber & Quill on Fort Knox at 11:30am. Tickets are $18 and can be obtained by contacting Gene Gudenkauf (genegudenkauf68@gmail.com) or Victoria McAdoo (victoriabevin@gmail.com). \nThe keynote speaker will be Chief Warrant Officer 5 Patrick R. Nelligan\, the Command Chief Warrant Officer\, US Army Reserve Command. \nHappy Birthday to the U.S. Army Reserve! \n  \nAUSA Army Reserve Bday 2022 (1)
URL:https://hardinchamber.com/event/ausa-to-celebrate-the-army-reserve-birthday/
LOCATION:Saber & Quill\, Chaffee Avenue\, Fort Knox\, KY\, 40121
CATEGORIES:Chamber Newsletter,Community Announcement,Promote
ATTACH;FMTTYPE=image/png:https://hardinchamber.com/wp-content/uploads/2016/06/fillLogo.png
ORGANIZER;CN="Fort Knox AUSA":MAILTO:genegudenkauf68@gmail.com
GEO:37.8943922;-85.9536061
X-APPLE-STRUCTURED-LOCATION;VALUE=URI;X-ADDRESS=Saber & Quill Chaffee Avenue Fort Knox KY 40121;X-APPLE-RADIUS=500;X-TITLE=Chaffee Avenue:geo:-85.9536061,37.8943922
END:VEVENT
BEGIN:VEVENT
DTSTART;TZID=America/Kentucky/Louisville:20211116T113000
DTEND;TZID=America/Kentucky/Louisville:20211116T130000
DTSTAMP:20260422T232942
CREATED:20211027T201313Z
LAST-MODIFIED:20211027T201313Z
UID:10001869-1637062200-1637067600@hardinchamber.com
SUMMARY:AUSA General Membership Meeting & Awards Program is November 16\, 2021
DESCRIPTION:You’re invited to join the Fort Knox Chapter of AUSA (Association of the United States Army) for the Fall General Membership Meeting and Awards Program. \nThe Chapter is excited to welcome BG John “Jack” Haley\, USA\, Retired\, as the keynote speaker. He is the Vice President of Membership and Meetings for the national AUSA organization. \nThe event will be held at the Saber & Quill on Fort Knox at 11:30am. Tickets are $20. \nContact Gene Gudenkauf for details and tickets at: 270-352-7797 or see flyer. \nAUSA Fall GMM \n 
URL:https://hardinchamber.com/event/ausa-general-membership-meeting-awards-program-is-november-16-2021/
LOCATION:Saber & Quill\, Chaffee Avenue\, Fort Knox\, KY\, 40121
CATEGORIES:Community Announcement,Promote
ATTACH;FMTTYPE=image/png:https://hardinchamber.com/wp-content/uploads/2016/06/fillLogo.png
ORGANIZER;CN="Fort Knox AUSA":MAILTO:genegudenkauf68@gmail.com
GEO:37.8943922;-85.9536061
X-APPLE-STRUCTURED-LOCATION;VALUE=URI;X-ADDRESS=Saber & Quill Chaffee Avenue Fort Knox KY 40121;X-APPLE-RADIUS=500;X-TITLE=Chaffee Avenue:geo:-85.9536061,37.8943922
END:VEVENT
END:VCALENDAR