BEGIN:VCALENDAR
VERSION:2.0
PRODID:-//Hardin County Chamber of Commerce - ECPv6.15.20//NONSGML v1.0//EN
CALSCALE:GREGORIAN
METHOD:PUBLISH
X-ORIGINAL-URL:https://hardinchamber.com
X-WR-CALDESC:Events for Hardin County Chamber of Commerce
REFRESH-INTERVAL;VALUE=DURATION:PT1H
X-Robots-Tag:noindex
X-PUBLISHED-TTL:PT1H
BEGIN:VTIMEZONE
TZID:America/Kentucky/Louisville
BEGIN:DAYLIGHT
TZOFFSETFROM:-0500
TZOFFSETTO:-0400
TZNAME:EDT
DTSTART:20230312T070000
END:DAYLIGHT
BEGIN:STANDARD
TZOFFSETFROM:-0400
TZOFFSETTO:-0500
TZNAME:EST
DTSTART:20231105T060000
END:STANDARD
BEGIN:DAYLIGHT
TZOFFSETFROM:-0500
TZOFFSETTO:-0400
TZNAME:EDT
DTSTART:20240310T070000
END:DAYLIGHT
BEGIN:STANDARD
TZOFFSETFROM:-0400
TZOFFSETTO:-0500
TZNAME:EST
DTSTART:20241103T060000
END:STANDARD
BEGIN:DAYLIGHT
TZOFFSETFROM:-0500
TZOFFSETTO:-0400
TZNAME:EDT
DTSTART:20250309T070000
END:DAYLIGHT
BEGIN:STANDARD
TZOFFSETFROM:-0400
TZOFFSETTO:-0500
TZNAME:EST
DTSTART:20251102T060000
END:STANDARD
END:VTIMEZONE
BEGIN:VEVENT
DTSTART;TZID=America/Kentucky/Louisville:20240920T090000
DTEND;TZID=America/Kentucky/Louisville:20240920T100000
DTSTAMP:20260421T102344
CREATED:20240908T203011Z
LAST-MODIFIED:20240908T203011Z
UID:10002000-1726822800-1726826400@hardinchamber.com
SUMMARY:Central Hardin Bruin Field Ribbon Cutting
DESCRIPTION:Please join us for a ribbon cutting celebration on September 20th for Central Hardin High School’s new football field. \nBruin Field has been upgraded to an artificial turf field and the ribbon cutting will be held on Friday\, September 20\, 2024 at 9:00am. \nLocated at 3040 Leitchfield Road in Cecilia\, CHHS is undergoing a major renovation\, inside and out. \nStop by\, see the beautiful new field and congratulate Central Hardin High School on the completion of this project. \nSee you there! \n 
URL:https://hardinchamber.com/event/central-hardin-bruin-field-ribbon-cutting/
LOCATION:Central Hardin High School\, 3040 Leitchfield Road\, Cecilia\, KY\, 42724
CATEGORIES:Chamber Newsletter,Community Announcement,Promote,Ribbon Cutting
ATTACH;FMTTYPE=image/png:https://hardinchamber.com/wp-content/uploads/2016/06/fillLogo.png
GEO:37.6753469;-85.9070757
X-APPLE-STRUCTURED-LOCATION;VALUE=URI;X-ADDRESS=Central Hardin High School 3040 Leitchfield Road Cecilia KY 42724;X-APPLE-RADIUS=500;X-TITLE=3040 Leitchfield Road:geo:-85.9070757,37.6753469
END:VEVENT
END:VCALENDAR