BEGIN:VCALENDAR
VERSION:2.0
PRODID:-//Hardin County Chamber of Commerce - ECPv6.15.20//NONSGML v1.0//EN
CALSCALE:GREGORIAN
METHOD:PUBLISH
X-WR-CALNAME:Hardin County Chamber of Commerce
X-ORIGINAL-URL:https://hardinchamber.com
X-WR-CALDESC:Events for Hardin County Chamber of Commerce
REFRESH-INTERVAL;VALUE=DURATION:PT1H
X-Robots-Tag:noindex
X-PUBLISHED-TTL:PT1H
BEGIN:VTIMEZONE
TZID:America/Kentucky/Louisville
BEGIN:DAYLIGHT
TZOFFSETFROM:-0500
TZOFFSETTO:-0400
TZNAME:EDT
DTSTART:20200308T070000
END:DAYLIGHT
BEGIN:STANDARD
TZOFFSETFROM:-0400
TZOFFSETTO:-0500
TZNAME:EST
DTSTART:20201101T060000
END:STANDARD
BEGIN:DAYLIGHT
TZOFFSETFROM:-0500
TZOFFSETTO:-0400
TZNAME:EDT
DTSTART:20210314T070000
END:DAYLIGHT
BEGIN:STANDARD
TZOFFSETFROM:-0400
TZOFFSETTO:-0500
TZNAME:EST
DTSTART:20211107T060000
END:STANDARD
BEGIN:DAYLIGHT
TZOFFSETFROM:-0500
TZOFFSETTO:-0400
TZNAME:EDT
DTSTART:20220313T070000
END:DAYLIGHT
BEGIN:STANDARD
TZOFFSETFROM:-0400
TZOFFSETTO:-0500
TZNAME:EST
DTSTART:20221106T060000
END:STANDARD
END:VTIMEZONE
BEGIN:VEVENT
DTSTART;TZID=America/Kentucky/Louisville:20210312T120000
DTEND;TZID=America/Kentucky/Louisville:20210312T130000
DTSTAMP:20260420T061856
CREATED:20210226T203214Z
LAST-MODIFIED:20210302T215827Z
UID:10001831-1615550400-1615554000@hardinchamber.com
SUMMARY:American Freight Ribbon Cutting March 12th
DESCRIPTION:Please join us in welcoming American Freight to the Chamber and our community with a ribbon cutting ceremony\, Friday\, March 12th at 12:00pm. \nAmerican Freight\, located in the Starlite Center at 1705 North Dixie Highway in Elizabethtown\, is a one-stop shop for quality furniture\, mattresses and appliances. \nHeidi Coffey and her team are ready to showcase the newly-renovated store and are eager to be a part of the community. \nWe hope to see you there!
URL:https://hardinchamber.com/event/american-freight-ribbon-cutting-2/
LOCATION:American Freight\, 1705 North Dixie Hwy.\, Elizabethtown\, KY\, 42701\, United States
CATEGORIES:Chamber Newsletter,Ribbon Cutting
ATTACH;FMTTYPE=image/png:https://hardinchamber.com/wp-content/uploads/2016/06/fillLogo.png
GEO:37.7337398;-85.8843605
X-APPLE-STRUCTURED-LOCATION;VALUE=URI;X-ADDRESS=American Freight 1705 North Dixie Hwy. Elizabethtown KY 42701 United States;X-APPLE-RADIUS=500;X-TITLE=1705 North Dixie Hwy.:geo:-85.8843605,37.7337398
END:VEVENT
END:VCALENDAR