BEGIN:VCALENDAR
VERSION:2.0
PRODID:-//Hardin County Chamber of Commerce - ECPv6.15.20//NONSGML v1.0//EN
CALSCALE:GREGORIAN
METHOD:PUBLISH
X-WR-CALNAME:Hardin County Chamber of Commerce
X-ORIGINAL-URL:https://hardinchamber.com
X-WR-CALDESC:Events for Hardin County Chamber of Commerce
REFRESH-INTERVAL;VALUE=DURATION:PT1H
X-Robots-Tag:noindex
X-PUBLISHED-TTL:PT1H
BEGIN:VTIMEZONE
TZID:America/Kentucky/Louisville
BEGIN:DAYLIGHT
TZOFFSETFROM:-0500
TZOFFSETTO:-0400
TZNAME:EDT
DTSTART:20120311T070000
END:DAYLIGHT
BEGIN:STANDARD
TZOFFSETFROM:-0400
TZOFFSETTO:-0500
TZNAME:EST
DTSTART:20121104T060000
END:STANDARD
BEGIN:DAYLIGHT
TZOFFSETFROM:-0500
TZOFFSETTO:-0400
TZNAME:EDT
DTSTART:20130310T070000
END:DAYLIGHT
BEGIN:STANDARD
TZOFFSETFROM:-0400
TZOFFSETTO:-0500
TZNAME:EST
DTSTART:20131103T060000
END:STANDARD
BEGIN:DAYLIGHT
TZOFFSETFROM:-0500
TZOFFSETTO:-0400
TZNAME:EDT
DTSTART:20140309T070000
END:DAYLIGHT
BEGIN:STANDARD
TZOFFSETFROM:-0400
TZOFFSETTO:-0500
TZNAME:EST
DTSTART:20141102T060000
END:STANDARD
BEGIN:DAYLIGHT
TZOFFSETFROM:-0500
TZOFFSETTO:-0400
TZNAME:EDT
DTSTART:20150308T070000
END:DAYLIGHT
BEGIN:STANDARD
TZOFFSETFROM:-0400
TZOFFSETTO:-0500
TZNAME:EST
DTSTART:20151101T060000
END:STANDARD
BEGIN:DAYLIGHT
TZOFFSETFROM:-0500
TZOFFSETTO:-0400
TZNAME:EDT
DTSTART:20160313T070000
END:DAYLIGHT
BEGIN:STANDARD
TZOFFSETFROM:-0400
TZOFFSETTO:-0500
TZNAME:EST
DTSTART:20161106T060000
END:STANDARD
BEGIN:DAYLIGHT
TZOFFSETFROM:-0500
TZOFFSETTO:-0400
TZNAME:EDT
DTSTART:20170312T070000
END:DAYLIGHT
BEGIN:STANDARD
TZOFFSETFROM:-0400
TZOFFSETTO:-0500
TZNAME:EST
DTSTART:20171105T060000
END:STANDARD
BEGIN:DAYLIGHT
TZOFFSETFROM:-0500
TZOFFSETTO:-0400
TZNAME:EDT
DTSTART:20180311T070000
END:DAYLIGHT
BEGIN:STANDARD
TZOFFSETFROM:-0400
TZOFFSETTO:-0500
TZNAME:EST
DTSTART:20181104T060000
END:STANDARD
BEGIN:DAYLIGHT
TZOFFSETFROM:-0500
TZOFFSETTO:-0400
TZNAME:EDT
DTSTART:20190310T070000
END:DAYLIGHT
BEGIN:STANDARD
TZOFFSETFROM:-0400
TZOFFSETTO:-0500
TZNAME:EST
DTSTART:20191103T060000
END:STANDARD
BEGIN:DAYLIGHT
TZOFFSETFROM:-0500
TZOFFSETTO:-0400
TZNAME:EDT
DTSTART:20200308T070000
END:DAYLIGHT
BEGIN:STANDARD
TZOFFSETFROM:-0400
TZOFFSETTO:-0500
TZNAME:EST
DTSTART:20201101T060000
END:STANDARD
END:VTIMEZONE
BEGIN:VEVENT
DTSTART;TZID=America/Kentucky/Louisville:20191211T113000
DTEND;TZID=America/Kentucky/Louisville:20191211T130000
DTSTAMP:20260423T074852
CREATED:20180327T140806Z
LAST-MODIFIED:20191210T191344Z
UID:10001690-1576063800-1576069200@hardinchamber.com
SUMMARY:2019 Taste of the Holidays Luncheon
DESCRIPTION:Join us on  Wednesday\, December 11\, 2019 for our monthly Luncheon. \nThe Luncheon will be held at Pritchard Community Center. \n404 South Mulberry Street\, Elizabethtown\, KY. \nCome at 11:00 a.m. to check in and network. \nLunch is served at 11:30 a.m. \nPrimary Sponsor:  \nBluegrass Cellular. \n  \n \n  \nSecondary Sponsor:  \nAtria Senior Living. \n \n  \nABC Student Sponsor: The Cecilian Bank. \n \nAllegro Dance Theater will be performing. \nMeeting is noon to 1:00 p.m. \n$16.00 RSVP before midnight Tuesday\, 11 December 2018. \n$20.00 the day of the luncheon and non members. \nYou are welcome to make a standing RSVP for our luncheons. \nShould you not be able to attend please call and cancel or luncheon charge will apply. \nTo RSVP call Natalie at 270-765-4334 or Brenda at 270-351-4450 \nor email natalie@hardinchamber.com/brenda@hardinchamber.com
URL:https://hardinchamber.com/event/2018-taste-of-the-holidays-luncheon/
LOCATION:Pritchard Community Center\, 404 South Mulberry Street\, Elizabethtown\, KY\, 42701
CATEGORIES:Monthly Luncheon,Network,Promote
ATTACH;FMTTYPE=image/png:https://hardinchamber.com/wp-content/uploads/2016/06/fillLogo.png
ORGANIZER;CN="Hardin County Chamber of Commerce":MAILTO:natalie@hardinchamber.com
GEO:37.6907739;-85.8651759
X-APPLE-STRUCTURED-LOCATION;VALUE=URI;X-ADDRESS=Pritchard Community Center 404 South Mulberry Street Elizabethtown KY 42701;X-APPLE-RADIUS=500;X-TITLE=404 South Mulberry Street:geo:-85.8651759,37.6907739
END:VEVENT
BEGIN:VEVENT
DTSTART;TZID=America/Kentucky/Louisville:20191015T170000
DTEND;TZID=America/Kentucky/Louisville:20191015T193000
DTSTAMP:20260423T074852
CREATED:20190910T150324Z
LAST-MODIFIED:20190926T130441Z
UID:10001596-1571158800-1571167800@hardinchamber.com
SUMMARY:Elizabethtown Lifestyle Magazine Open House and Ribbon Cutting!
DESCRIPTION:Tuesday\, October 15\, 2019. \n5:00 pm – 7:00 pm. \nRibbon Cutting at 5:30 pm. \nBrown-Pusey House. \n128 North Main Street. \nElizabethtown\, KY.
URL:https://hardinchamber.com/event/please-join-us-for-the-launch-of-the-elizabethtown-lifestyle-magazine-open-house-and-ribbon-cutting/
LOCATION:Elizabethtown\, KY\, 42701
CATEGORIES:After Hours,Network,Promote,Ribbon Cutting
ATTACH;FMTTYPE=image/png:https://hardinchamber.com/wp-content/uploads/2016/06/fillLogo.png
ORGANIZER;CN="Hardin County Chamber of Commerce":MAILTO:natalie@hardinchamber.com
GEO:37.7030051;-85.8647201
END:VEVENT
BEGIN:VEVENT
DTSTART;TZID=America/Kentucky/Louisville:20191003T113000
DTEND;TZID=America/Kentucky/Louisville:20191003T123000
DTSTAMP:20260423T074852
CREATED:20190826T195632Z
LAST-MODIFIED:20191002T180511Z
UID:10001787-1570102200-1570105800@hardinchamber.com
SUMMARY:Member Medical Open House and Ribbon Cutting!
DESCRIPTION:Thursday\, October 3\, 2019. \nPlease join us for an Open House and Ribbon Cutting. \nRibbon Cutting at Noon. \n3046  Dolphin Drive\, Suite 104. \nElizabethtown\, KY. \n  \n 
URL:https://hardinchamber.com/event/member-medical-open-house-and-ribbon-cutting/
LOCATION:Elizabethtown\, KY\, 42701
CATEGORIES:Network,Promote,Ribbon Cutting
ATTACH;FMTTYPE=image/png:https://hardinchamber.com/wp-content/uploads/2016/06/fillLogo.png
ORGANIZER;CN="Hardin County Chamber of Commerce":MAILTO:natalie@hardinchamber.com
GEO:37.7030051;-85.8647201
END:VEVENT
BEGIN:VEVENT
DTSTART;TZID=America/Kentucky/Louisville:20190912T113000
DTEND;TZID=America/Kentucky/Louisville:20190912T123000
DTSTAMP:20260423T074852
CREATED:20190903T152659Z
LAST-MODIFIED:20190903T154640Z
UID:10001789-1568287800-1568291400@hardinchamber.com
SUMMARY:A Place to Belong Ribbon Cutting and Open House.
DESCRIPTION:Open House 11:30 – 12:30. \nRibbon Cutting at Noon. \n306 North Wilson Road. \nRadcliff\, KY 40160. \n 
URL:https://hardinchamber.com/event/a-place-to-belong-ribbon-cutting-and-open-house/
LOCATION:Elizabethtown\, KY\, 42701
CATEGORIES:Network,Promote,Ribbon Cutting
ATTACH;FMTTYPE=image/png:https://hardinchamber.com/wp-content/uploads/2016/06/fillLogo.png
ORGANIZER;CN="Hardin County Chamber of Commerce":MAILTO:natalie@hardinchamber.com
GEO:37.7030051;-85.8647201
END:VEVENT
BEGIN:VEVENT
DTSTART;TZID=America/Kentucky/Louisville:20190911T120000
DTEND;TZID=America/Kentucky/Louisville:20190911T130000
DTSTAMP:20260423T074852
CREATED:20190826T153422Z
LAST-MODIFIED:20190910T163944Z
UID:10001781-1568203200-1568206800@hardinchamber.com
SUMMARY:September 2019 Chamber Luncheon and  United Way Kick off!
DESCRIPTION:   September 11\,2019    \nPlease R.S.V. P. by Tuesday\, September 10\, 2019: \n to natalie@hardinchamber.com or call 270-765-4334. \n$16.00 before midnight/$20.00 on Wednesday and Non-members. \n If unable to attend\, please call or email to avoid charge. \nBack Home will be catering the luncheon. \nThis luncheon will be held at Pritchard Community Center. \n       404 North Mulberry Street\, Elizabethtown\, KY \n                                       Primary Sponsor                                        \n \n  \nSecondary Sponsors \n                                                                 
URL:https://hardinchamber.com/event/september-2019-chamber-luncheon-and-united-way-kick-off/
LOCATION:Elizabethtown\, KY\, 42701
CATEGORIES:Monthly Luncheon,Network
ATTACH;FMTTYPE=image/png:https://hardinchamber.com/wp-content/uploads/2016/06/fillLogo.png
ORGANIZER;CN="Hardin County Chamber of Commerce":MAILTO:natalie@hardinchamber.com
GEO:37.7030051;-85.8647201
END:VEVENT
BEGIN:VEVENT
DTSTART;TZID=America/Kentucky/Louisville:20190724T113000
DTEND;TZID=America/Kentucky/Louisville:20190724T123000
DTSTAMP:20260423T074852
CREATED:20190703T174941Z
LAST-MODIFIED:20190723T170236Z
UID:10001767-1563967800-1563971400@hardinchamber.com
SUMMARY:Childress Insurance Agency Open House and Ribbon Cutting!
DESCRIPTION:Open House 11:30-12:30. \nRibbon Cutting at Noon. \n100 Chase Way\, Suite 6\, \nElizabethtown\, KY  42701.
URL:https://hardinchamber.com/event/childress-insurance-agency-open-house-and-ribbon-cutting/
LOCATION:Elizabethtown\, KY\, 42701
CATEGORIES:Chamber Newsletter,Network,Promote,Ribbon Cutting
ATTACH;FMTTYPE=image/png:https://hardinchamber.com/wp-content/uploads/2016/06/fillLogo.png
ORGANIZER;CN="Hardin County Chamber of Commerce":MAILTO:natalie@hardinchamber.com
GEO:37.7030051;-85.8647201
END:VEVENT
BEGIN:VEVENT
DTSTART;TZID=America/Kentucky/Louisville:20190418T080000
DTEND;TZID=America/Kentucky/Louisville:20190418T090000
DTSTAMP:20260423T074852
CREATED:20190220T160013Z
LAST-MODIFIED:20190319T182229Z
UID:10001746-1555574400-1555578000@hardinchamber.com
SUMMARY:April 2019 Breakfast Club
DESCRIPTION:April 2019 Breakfast Club.
URL:https://hardinchamber.com/event/april-2019-breakfast-club/
LOCATION:Vine Grove City Hall\, 300 West Main\, Vine Grove\, KY\, 40175\, United States
CATEGORIES:Business at Breakfast,Community Announcement,Network,Promote
ATTACH;FMTTYPE=image/png:https://hardinchamber.com/wp-content/uploads/2016/06/fillLogo.png
ORGANIZER;CN="Hardin County Chamber of Commerce":MAILTO:natalie@hardinchamber.com
GEO:37.8108435;-85.9838368
X-APPLE-STRUCTURED-LOCATION;VALUE=URI;X-ADDRESS=Vine Grove City Hall 300 West Main Vine Grove KY 40175 United States;X-APPLE-RADIUS=500;X-TITLE=300 West Main:geo:-85.9838368,37.8108435
END:VEVENT
BEGIN:VEVENT
DTSTART;TZID=America/Kentucky/Louisville:20190321T113000
DTEND;TZID=America/Kentucky/Louisville:20190321T123000
DTSTAMP:20260423T074852
CREATED:20190305T145904Z
LAST-MODIFIED:20190319T183032Z
UID:10001757-1553167800-1553171400@hardinchamber.com
SUMMARY:The Maternal Chiropractor Open House and Ribbon Cutting.
DESCRIPTION:The Maternal Chiropractor Open House and Ribbon Cutting.\nThursday\, March 21\,2019.\nTowne Mall\n1704 North Dixie Hwy.\nElizabethtown\, KY 42701.\nOpen House 11:30-12:30.\nRIBBON CUTTING NOON.\nStop by and see how Dr. Morgan Bury can assist you.
URL:https://hardinchamber.com/event/the-maternal-chiropractor-open-house-ribbon-cutting-towne-mall/
LOCATION:Elizabethtown\, KY\, 42701
CATEGORIES:Network,Promote,Ribbon Cutting
ATTACH;FMTTYPE=image/png:https://hardinchamber.com/wp-content/uploads/2016/06/fillLogo.png
ORGANIZER;CN="Hardin County Chamber of Commerce":MAILTO:natalie@hardinchamber.com
GEO:37.7030051;-85.8647201
END:VEVENT
BEGIN:VEVENT
DTSTART;TZID=America/Kentucky/Louisville:20181025T123000
DTEND;TZID=America/Kentucky/Louisville:20181025T133000
DTSTAMP:20260423T074852
CREATED:20180918T150901Z
LAST-MODIFIED:20180927T125854Z
UID:10001722-1540470600-1540474200@hardinchamber.com
SUMMARY:ECTC James Owen Building Ribbon Cutting
DESCRIPTION:Elizabethtown Community & Technical College. \nJames Owen Building Ribbon Cutting. \nRoom 102\, \n600 College Street\, Elizabethtown\, KY 42701. \nThursday\, October 25\, 2018. \nRIBBON CUTTING 12:30. \nCome tour the newly renovated James Owen Building. \nPlease use entrance 1 to enter campus and park in the B Parking lot. \n 
URL:https://hardinchamber.com/event/ectc-james-owen-building-ribbon-cutting/
LOCATION:ECTC\, 600 College St. Road\, Elizabethtown\, KY\, 42701
CATEGORIES:Network,Promote,Ribbon Cutting
ATTACH;FMTTYPE=image/png:https://hardinchamber.com/wp-content/uploads/2016/06/fillLogo.png
ORGANIZER;CN="Hardin County Chamber of Commerce":MAILTO:natalie@hardinchamber.com
GEO:37.6932206;-85.8806041
X-APPLE-STRUCTURED-LOCATION;VALUE=URI;X-ADDRESS=ECTC 600 College St. Road Elizabethtown KY 42701;X-APPLE-RADIUS=500;X-TITLE=600 College St. Road:geo:-85.8806041,37.6932206
END:VEVENT
BEGIN:VEVENT
DTSTART;TZID=America/Kentucky/Louisville:20180808T120000
DTEND;TZID=America/Kentucky/Louisville:20180808T130000
DTSTAMP:20260423T074852
CREATED:20180327T132510Z
LAST-MODIFIED:20180731T144222Z
UID:10001684-1533729600-1533733200@hardinchamber.com
SUMMARY:August 8\, 2018 Luncheon
DESCRIPTION:Join us for our Wednesday\, 8 August 2018  Luncheon. \nDr. Juston Pate\, President of Elizabethtown Community and Technical College (ECTC) will be our speaker. \nWe will introduce our 2018 – 2019 Leadership Hardin County class. \nOur Primary Sponsor\, WesBanco. \n \nOur Secondary Sponsors: \nBrantingham Builders & \n \nHelping Hand of Hope. \n \nThe Luncheon will be held at Pritchard Community Center. \n404 South Mulberry Street\, Elizabethtown\, KY. \nCome at 11:00 to check in and network. \nLunch which is served at 11:30 a.m. \nMark’s Feed Store will cater the meal. \nMeeting is noon to 1:00 p.m. \n$16.00 RSVP before midnight Tuesday\, 7 August 2018. \n$20.00 the day of the luncheon and non members. \nYou are welcome to make a standing RSVP for our luncheons. \nShould you not be able to attend please call and cancel or luncheon charge will apply. \nTo RSVP call Robin at 270-765-4334 \nor email robin@hardinchamber.com
URL:https://hardinchamber.com/event/august-8-2018-luncheon/
LOCATION:Pritchard Community Center\, 404 South Mulberry Street\, Elizabethtown\, KY\, 42701
CATEGORIES:Monthly Luncheon,Network,Promote
ATTACH;FMTTYPE=image/png:https://hardinchamber.com/wp-content/uploads/2016/06/fillLogo.png
ORGANIZER;CN="Hardin County Chamber of Commerce":MAILTO:natalie@hardinchamber.com
GEO:37.6907739;-85.8651759
X-APPLE-STRUCTURED-LOCATION;VALUE=URI;X-ADDRESS=Pritchard Community Center 404 South Mulberry Street Elizabethtown KY 42701;X-APPLE-RADIUS=500;X-TITLE=404 South Mulberry Street:geo:-85.8651759,37.6907739
END:VEVENT
BEGIN:VEVENT
DTSTART;TZID=America/Kentucky/Louisville:20161206T113000
DTEND;TZID=America/Kentucky/Louisville:20161206T130000
DTSTAMP:20260423T074852
CREATED:20160901T165815Z
LAST-MODIFIED:20161109T122753Z
UID:10001509-1481023800-1481029200@hardinchamber.com
SUMMARY:United Way 211 Program Ribbon Cutting and Open House
DESCRIPTION:United Way 211 Program Ribbon Cutting and Open House. \nAnnouncing United Way’s 211 Program. \nTuesday\, December 6\, 2016. \n604 North Main\, Elizabethtown. \n11:30 am. to 1:00 pm  Open House. \nThe  Ribbon Cutting will be at NOON. \nPlease join United Way of Central Kentucky and the Hardin County Chamber of Commerce for a Ribbon Cutting ceremony to launch 2-1-1\, a single point of access to community resources available in Hardin\, Breckinridge\, Grayson\, LaRue\, and Meade Counties. Beginning on December 6th\, our community may dial 2-1-1 to receive free and confidential information on community\, health and social services from a live\, highly trained resource specialist 24 hours a day\, seven days a week. \n 
URL:https://hardinchamber.com/event/united-way-211-program-ribbon-cutting-and-open-house/
LOCATION:United Way of Central Kentucky\, 604 North Main Street\, Elizabethtown\, KY\, 42701\, United States
CATEGORIES:Network,Ribbon Cutting
ATTACH;FMTTYPE=image/png:https://hardinchamber.com/wp-content/uploads/2016/06/fillLogo.png
ORGANIZER;CN="Hardin County Chamber of Commerce":MAILTO:natalie@hardinchamber.com
GEO:37.698628;-85.85102
X-APPLE-STRUCTURED-LOCATION;VALUE=URI;X-ADDRESS=United Way of Central Kentucky 604 North Main Street Elizabethtown KY 42701 United States;X-APPLE-RADIUS=500;X-TITLE=604 North Main Street:geo:-85.85102,37.698628
END:VEVENT
BEGIN:VEVENT
DTSTART;TZID=America/Kentucky/Louisville:20161110T073000
DTEND;TZID=America/Kentucky/Louisville:20161110T083000
DTSTAMP:20260423T074852
CREATED:20161101T165039Z
LAST-MODIFIED:20161101T170210Z
UID:10001529-1478763000-1478766600@hardinchamber.com
SUMMARY:Business at Breakfast: Session 3 Business Succession Planning
DESCRIPTION:Hardin County Chamber of Commerce. \nBusiness Seminar Series: \nBusiness at Breakfast. \nIn Partnership with \nThe Hardin County Chamber of Commerce \nhosts a four part seminar series with experts \nwho can help your people and your business succeed. \nSession 3. \nBusiness Succession Planning. \nJerry Fowler\, Estate Attorney\, Kentucky Trusts and Estates. \nNovember 10\, 2016. \n7:30 am – 8:30 am. \nCost: \n$10.00 (members) \n$20.00 (non-members) \nDown load flyer here: hcoc_seminarseries-ver81 \n 
URL:https://hardinchamber.com/event/business-at-breakfast-session-3-business-succession-planning/
LOCATION:Hardin County Chamber of Commerce\, 111 West Dixie\, Elizabethtown\, KY\, 42701\, United States
CATEGORIES:Business at Breakfast,Network
ATTACH;FMTTYPE=image/png:https://hardinchamber.com/wp-content/uploads/2016/06/fillLogo.png
ORGANIZER;CN="Hardin County Chamber of Commerce":MAILTO:natalie@hardinchamber.com
GEO:37.6935585;-85.8585364
X-APPLE-STRUCTURED-LOCATION;VALUE=URI;X-ADDRESS=Hardin County Chamber of Commerce 111 West Dixie Elizabethtown KY 42701 United States;X-APPLE-RADIUS=500;X-TITLE=111 West Dixie:geo:-85.8585364,37.6935585
END:VEVENT
BEGIN:VEVENT
DTSTART;TZID=America/Kentucky/Louisville:20161020T100000
DTEND;TZID=America/Kentucky/Louisville:20161020T103000
DTSTAMP:20260423T074852
CREATED:20160929T195038Z
LAST-MODIFIED:20160929T195253Z
UID:10001427-1476957600-1476959400@hardinchamber.com
SUMMARY:Rural King Ribbon Cutting
DESCRIPTION:Rural King Ribbon Cutting \nThursday\, October 20\, 2016. \n10:00 a.m. – 10:30 a.m. \n985 North Dixie\, Elizabethtown\, KY 42701.
URL:https://hardinchamber.com/event/rural-king-ribbon-cutting/
LOCATION:Rural King\, 985 North Dixie\, Elizabethtown\, KY\, 42701\, United States
CATEGORIES:Ribbon Cutting
ATTACH;FMTTYPE=image/png:https://hardinchamber.com/wp-content/uploads/2016/06/fillLogo.png
ORGANIZER;CN="Hardin County Chamber of Commerce":MAILTO:natalie@hardinchamber.com
GEO:37.7134851;-85.8768325
X-APPLE-STRUCTURED-LOCATION;VALUE=URI;X-ADDRESS=Rural King 985 North Dixie Elizabethtown KY 42701 United States;X-APPLE-RADIUS=500;X-TITLE=985 North Dixie:geo:-85.8768325,37.7134851
END:VEVENT
BEGIN:VEVENT
DTSTART;TZID=America/Kentucky/Louisville:20131107T000000
DTEND;TZID=America/Kentucky/Louisville:20131107T123000
DTSTAMP:20260423T074852
CREATED:20131025T143613Z
LAST-MODIFIED:20131105T154943Z
UID:10001483-1383782400-1383827400@hardinchamber.com
SUMMARY:Running Soles Ribbon Cutting
DESCRIPTION:Come join us as we Welcome  Running Soles to the Community with a ribbon cutting on November 7th at 2410 Ring Road\, Suite 100\, Elizabethtown\, KY 42701. Owners\, Will and Madeline Rivera will be happy to assist you with a a free gait analysis along with offering weekly Chi-Running/Walking clinics and group runs . Mark your calenders for Thursday\, November 7th at noon! We look forward to seeing you there!
URL:https://hardinchamber.com/event/running-soles-ribbon-cutting/
LOCATION:Running Soles\, LLC\, 2410 Ring Road Suite 100\, Elizabethtown\, KY\, 42701\, United States
CATEGORIES:Ribbon Cutting
ATTACH;FMTTYPE=image/png:https://hardinchamber.com/wp-content/uploads/2016/06/fillLogo.png
ORGANIZER;CN="Hardin County Chamber of Commerce":MAILTO:natalie@hardinchamber.com
GEO:37.7330638;-85.845965
X-APPLE-STRUCTURED-LOCATION;VALUE=URI;X-ADDRESS=Running Soles LLC 2410 Ring Road Suite 100 Elizabethtown KY 42701 United States;X-APPLE-RADIUS=500;X-TITLE=2410 Ring Road Suite 100:geo:-85.845965,37.7330638
END:VEVENT
END:VCALENDAR