BEGIN:VCALENDAR
VERSION:2.0
PRODID:-//Hardin County Chamber of Commerce - ECPv6.15.20//NONSGML v1.0//EN
CALSCALE:GREGORIAN
METHOD:PUBLISH
X-WR-CALNAME:Hardin County Chamber of Commerce
X-ORIGINAL-URL:https://hardinchamber.com
X-WR-CALDESC:Events for Hardin County Chamber of Commerce
REFRESH-INTERVAL;VALUE=DURATION:PT1H
X-Robots-Tag:noindex
X-PUBLISHED-TTL:PT1H
BEGIN:VTIMEZONE
TZID:America/Kentucky/Louisville
BEGIN:DAYLIGHT
TZOFFSETFROM:-0500
TZOFFSETTO:-0400
TZNAME:EDT
DTSTART:20240310T070000
END:DAYLIGHT
BEGIN:STANDARD
TZOFFSETFROM:-0400
TZOFFSETTO:-0500
TZNAME:EST
DTSTART:20241103T060000
END:STANDARD
BEGIN:DAYLIGHT
TZOFFSETFROM:-0500
TZOFFSETTO:-0400
TZNAME:EDT
DTSTART:20250309T070000
END:DAYLIGHT
BEGIN:STANDARD
TZOFFSETFROM:-0400
TZOFFSETTO:-0500
TZNAME:EST
DTSTART:20251102T060000
END:STANDARD
BEGIN:DAYLIGHT
TZOFFSETFROM:-0500
TZOFFSETTO:-0400
TZNAME:EDT
DTSTART:20260308T070000
END:DAYLIGHT
BEGIN:STANDARD
TZOFFSETFROM:-0400
TZOFFSETTO:-0500
TZNAME:EST
DTSTART:20261101T060000
END:STANDARD
END:VTIMEZONE
BEGIN:VEVENT
DTSTART;TZID=America/Kentucky/Louisville:20250921T130000
DTEND;TZID=America/Kentucky/Louisville:20250921T170000
DTSTAMP:20260423T194537
CREATED:20250804T180107Z
LAST-MODIFIED:20250804T180107Z
UID:10002076-1758459600-1758474000@hardinchamber.com
SUMMARY:HCCC CHAMBER DAY AT THE LOUISVILLE BATS
DESCRIPTION:BATTER UP!\nJoin us for a fun-filled day at Slugger Field cheering on the Louisville Bats on Sunday\, September 21\, 2025. The first pitch is at 1:05pm as the Bats take on the Nashville Sounds. \nThis Chamber Day at the Bats will include lots of fun\, networking\, special deals for the kids and a time to unwind while enjoying America’s favorite pastime. \nTickets are only $10! Bring your family\, friends\, co-workers and neighbors! \nClick the link for more details and tickets : https://www.gofevo.com/event/Hardincounty6 \nWe hope to see you there!!!! \nLET’S GO BATS!!!\n  \n 
URL:https://hardinchamber.com/event/hccc-chamber-day-at-the-louisville-bats/
LOCATION:Louisville Slugger Field\, 401 E. Main St.\, Louisville\, KY\, 40202
CATEGORIES:Chamber Newsletter,Community Announcement,Network,Promote
ATTACH;FMTTYPE=image/png:https://hardinchamber.com/wp-content/uploads/2016/06/fillLogo.png
GEO:38.2564367;-85.7445522
X-APPLE-STRUCTURED-LOCATION;VALUE=URI;X-ADDRESS=Louisville Slugger Field 401 E. Main St. Louisville KY 40202;X-APPLE-RADIUS=500;X-TITLE=401 E. Main St.:geo:-85.7445522,38.2564367
END:VEVENT
END:VCALENDAR