BEGIN:VCALENDAR
VERSION:2.0
PRODID:-//Hardin County Chamber of Commerce - ECPv6.15.20//NONSGML v1.0//EN
CALSCALE:GREGORIAN
METHOD:PUBLISH
X-ORIGINAL-URL:https://hardinchamber.com
X-WR-CALDESC:Events for Hardin County Chamber of Commerce
REFRESH-INTERVAL;VALUE=DURATION:PT1H
X-Robots-Tag:noindex
X-PUBLISHED-TTL:PT1H
BEGIN:VTIMEZONE
TZID:America/Kentucky/Louisville
BEGIN:DAYLIGHT
TZOFFSETFROM:-0500
TZOFFSETTO:-0400
TZNAME:EDT
DTSTART:20240310T070000
END:DAYLIGHT
BEGIN:STANDARD
TZOFFSETFROM:-0400
TZOFFSETTO:-0500
TZNAME:EST
DTSTART:20241103T060000
END:STANDARD
BEGIN:DAYLIGHT
TZOFFSETFROM:-0500
TZOFFSETTO:-0400
TZNAME:EDT
DTSTART:20250309T070000
END:DAYLIGHT
BEGIN:STANDARD
TZOFFSETFROM:-0400
TZOFFSETTO:-0500
TZNAME:EST
DTSTART:20251102T060000
END:STANDARD
BEGIN:DAYLIGHT
TZOFFSETFROM:-0500
TZOFFSETTO:-0400
TZNAME:EDT
DTSTART:20260308T070000
END:DAYLIGHT
BEGIN:STANDARD
TZOFFSETFROM:-0400
TZOFFSETTO:-0500
TZNAME:EST
DTSTART:20261101T060000
END:STANDARD
END:VTIMEZONE
BEGIN:VEVENT
DTSTART;TZID=America/Kentucky/Louisville:20250918T080000
DTEND;TZID=America/Kentucky/Louisville:20250918T090000
DTSTAMP:20260425T112547
CREATED:20250617T185609Z
LAST-MODIFIED:20250917T131533Z
UID:10001846-1758182400-1758186000@hardinchamber.com
SUMMARY:HCCC Business at Breakfast
DESCRIPTION:
URL:https://hardinchamber.com/event/hccc-business-at-breakfast/
LOCATION:Colvin Community Center\, 230 Freedoms Way\, Radcliff\, KY\, 40160
CATEGORIES:Business at Breakfast,Chamber Newsletter,Community Announcement,Network,Promote
ATTACH;FMTTYPE=image/png:https://hardinchamber.com/wp-content/uploads/2016/06/fillLogo.png
GEO:37.8396251;-85.9450389
X-APPLE-STRUCTURED-LOCATION;VALUE=URI;X-ADDRESS=Colvin Community Center 230 Freedoms Way Radcliff KY 40160;X-APPLE-RADIUS=500;X-TITLE=230 Freedoms Way:geo:-85.9450389,37.8396251
END:VEVENT
END:VCALENDAR