BEGIN:VCALENDAR
VERSION:2.0
PRODID:-//Hardin County Chamber of Commerce - ECPv6.15.20//NONSGML v1.0//EN
CALSCALE:GREGORIAN
METHOD:PUBLISH
X-ORIGINAL-URL:https://hardinchamber.com
X-WR-CALDESC:Events for Hardin County Chamber of Commerce
REFRESH-INTERVAL;VALUE=DURATION:PT1H
X-Robots-Tag:noindex
X-PUBLISHED-TTL:PT1H
BEGIN:VTIMEZONE
TZID:America/Kentucky/Louisville
BEGIN:DAYLIGHT
TZOFFSETFROM:-0500
TZOFFSETTO:-0400
TZNAME:EDT
DTSTART:20240310T070000
END:DAYLIGHT
BEGIN:STANDARD
TZOFFSETFROM:-0400
TZOFFSETTO:-0500
TZNAME:EST
DTSTART:20241103T060000
END:STANDARD
BEGIN:DAYLIGHT
TZOFFSETFROM:-0500
TZOFFSETTO:-0400
TZNAME:EDT
DTSTART:20250309T070000
END:DAYLIGHT
BEGIN:STANDARD
TZOFFSETFROM:-0400
TZOFFSETTO:-0500
TZNAME:EST
DTSTART:20251102T060000
END:STANDARD
BEGIN:DAYLIGHT
TZOFFSETFROM:-0500
TZOFFSETTO:-0400
TZNAME:EDT
DTSTART:20260308T070000
END:DAYLIGHT
BEGIN:STANDARD
TZOFFSETFROM:-0400
TZOFFSETTO:-0500
TZNAME:EST
DTSTART:20261101T060000
END:STANDARD
END:VTIMEZONE
BEGIN:VEVENT
DTSTART;TZID=America/Kentucky/Louisville:20251014T120000
DTEND;TZID=America/Kentucky/Louisville:20251014T130000
DTSTAMP:20260423T163659
CREATED:20251007T181613Z
LAST-MODIFIED:20251009T194429Z
UID:10002103-1760443200-1760446800@hardinchamber.com
SUMMARY:RIBBON CUTTING: Right at Home
DESCRIPTION:LET’S CELEBRATE RIGHT AT HOME WITH A RIBBON CUTTING!\n  \n \n“Right at Home provides compassionate\, non-medical in-home care for seniors and adults with disabilities\, helping them live safely and comfortably in their own homes. Our services include personal care\, companionship\, respite for family caregivers\, and support with daily activities—offered by trained\, reliable caregivers who treat clients like family. We’re here to make life easier\, safer\, and more fulfilling for those we serve.”
URL:https://hardinchamber.com/event/ribbon-cutting-right-at-home/
LOCATION:Right at Home\, 1107 Crowne Point Drive\, Ste 209\, Elizabethtown\, KY\, 42701\, United States
CATEGORIES:Chamber Newsletter,Community Announcement,Network,Promote,Ribbon Cutting
ATTACH;FMTTYPE=image/png:https://hardinchamber.com/wp-content/uploads/2016/06/fillLogo.png
GEO:37.7178392;-85.8368769
X-APPLE-STRUCTURED-LOCATION;VALUE=URI;X-ADDRESS=Right at Home 1107 Crowne Point Drive Ste 209 Elizabethtown KY 42701 United States;X-APPLE-RADIUS=500;X-TITLE=1107 Crowne Point Drive\, Ste 209:geo:-85.8368769,37.7178392
END:VEVENT
BEGIN:VEVENT
DTSTART;TZID=America/Kentucky/Louisville:20251015T120000
DTEND;TZID=America/Kentucky/Louisville:20251015T130000
DTSTAMP:20260423T163659
CREATED:20250918T151940Z
LAST-MODIFIED:20250918T151940Z
UID:10002089-1760529600-1760533200@hardinchamber.com
SUMMARY:RIBBON CUTTING: CenterWell Home Health
DESCRIPTION:Let’s cut a red ribbon together and celebrate\nCenterWell Home Health!\n  \n \n  \nAbout CenterWell\nCenterWell® is the nation’s largest provider of senior-focused primary care\, one of the largest providers of home health services\, and fourth largest pharmacy benefit manager. Our patient care is centered around whole-person health\, where we address the physical\, emotional and social wellness of our patients. By placing each patient at the center—focusing on their unique needs and personalizing the care we deliver to them—we can help them lead happier\, healthier lives. \nCenterWell includes home health\, senior primary care and pharmacy services.
URL:https://hardinchamber.com/event/ribbon-cutting-centerwell-home-health/
LOCATION:CenterWell Home Health\, 2411 Ring Road\, Suite 106\, Elizabethtown\, KY\, 42701\, United States
CATEGORIES:Chamber Newsletter,Network,Promote,Ribbon Cutting
ATTACH;FMTTYPE=image/png:https://hardinchamber.com/wp-content/uploads/2016/06/fillLogo.png
GEO:37.7311611;-85.8459331
X-APPLE-STRUCTURED-LOCATION;VALUE=URI;X-ADDRESS=CenterWell Home Health 2411 Ring Road Suite 106 Elizabethtown KY 42701 United States;X-APPLE-RADIUS=500;X-TITLE=2411 Ring Road\, Suite 106:geo:-85.8459331,37.7311611
END:VEVENT
BEGIN:VEVENT
DTSTART;TZID=America/Kentucky/Louisville:20251016T180000
DTEND;TZID=America/Kentucky/Louisville:20251016T193000
DTSTAMP:20260423T163659
CREATED:20251005T204933Z
LAST-MODIFIED:20251005T204933Z
UID:10002100-1760637600-1760643000@hardinchamber.com
SUMMARY:RSBA Sunset Networking Event
DESCRIPTION:Save the date and make plans to attend the RSBA Sunset Networking Event on October 16\, 2025. \nAn evening of networking and business opportunities awaits you at this special event. Think “speed dating for businesses!” \nSponsored by Amplify\, the event will including meaningful conversations\, networking opportunities\, refreshments and more\, allowing business leaders and owners to connect with other entrepreneurs and community leaders. \nThe event will be held at Lincoln Trail Country Club in Vine Grove from 6:00-7:30pm. Register online at: https://radcliffsba.wildapricot.org/ \nWe’ll see you there! \n 
URL:https://hardinchamber.com/event/rsba-sunset-networking-event/
LOCATION:Lincoln Trail Country Club\, 900 Country Club Road\, Vine Grove\, KY\, 40175
CATEGORIES:After Hours,Chamber Newsletter,Community Announcement,Network,Promote
ATTACH;FMTTYPE=image/png:https://hardinchamber.com/wp-content/uploads/2016/06/fillLogo.png
GEO:37.802888;-85.990934
X-APPLE-STRUCTURED-LOCATION;VALUE=URI;X-ADDRESS=Lincoln Trail Country Club 900 Country Club Road Vine Grove KY 40175;X-APPLE-RADIUS=500;X-TITLE=900 Country Club Road:geo:-85.990934,37.802888
END:VEVENT
BEGIN:VEVENT
DTSTART;TZID=America/Kentucky/Louisville:20251017T120000
DTEND;TZID=America/Kentucky/Louisville:20251017T130000
DTSTAMP:20260423T163659
CREATED:20251007T182715Z
LAST-MODIFIED:20251009T194340Z
UID:10002104-1760702400-1760706000@hardinchamber.com
SUMMARY:RIBBON CUTTING: Salon KD
DESCRIPTION:COME CUT A RED RIBBON WITH US!\n  \n \nAt Salon KD\, we’re your go-to destination for bold\, modern\, and flawless beauty. From precision cuts and lived-in color to high-impact blonding\, we’ve got every service you need to keep your style sharp. We also bring the same attention to detail to your skin\, offering quality skincare treatments that leave you glowing and refreshed. Whether you’re in for a quick refresh or a new look\, our team delivers trend-forward\, customized results that keep you looking and feeling unapologetically you.
URL:https://hardinchamber.com/event/ribbon-cutting-salon-kd/
LOCATION:Salon KD\, 950 N. Mulberry Street\, Suite 105\, Elizabethtown\, KY\, 42701\, United States
CATEGORIES:Chamber Newsletter,Community Announcement,Network,Promote,Ribbon Cutting
ATTACH;FMTTYPE=image/png:https://hardinchamber.com/wp-content/uploads/2016/06/fillLogo.png
GEO:37.7086039;-85.8414253
X-APPLE-STRUCTURED-LOCATION;VALUE=URI;X-ADDRESS=Salon KD 950 N. Mulberry Street Suite 105 Elizabethtown KY 42701 United States;X-APPLE-RADIUS=500;X-TITLE=950 N. Mulberry Street\, Suite 105:geo:-85.8414253,37.7086039
END:VEVENT
BEGIN:VEVENT
DTSTART;TZID=America/Kentucky/Louisville:20251030T180000
DTEND;TZID=America/Kentucky/Louisville:20251030T200000
DTSTAMP:20260423T163659
CREATED:20250929T150538Z
LAST-MODIFIED:20251030T002327Z
UID:10002096-1761847200-1761854400@hardinchamber.com
SUMMARY:Hardin County Community Partnership Dinner
DESCRIPTION:Please join us for a fun-filled evening as we host the Community Partnership Dinner on October 30\, 2025 in historic Vine Grove.\n\nTHANK YOU to our Primary Sponsor\, The Cecilian Bank\n \n  \nand THANK YOU to our Secondary Sponsors\n  \n \n 
URL:https://hardinchamber.com/event/hardin-county-community-partnership-dinner/
LOCATION:Venue on Main\, 127 W. Main Street\, Vibe Grove\, 40175\, United States
CATEGORIES:Chamber Newsletter,Network,Promote
ATTACH;FMTTYPE=image/png:https://hardinchamber.com/wp-content/uploads/2016/06/fillLogo.png
GEO:37.8105789;-85.9820789
X-APPLE-STRUCTURED-LOCATION;VALUE=URI;X-ADDRESS=Venue on Main 127 W. Main Street Vibe Grove 40175 United States;X-APPLE-RADIUS=500;X-TITLE=127 W. Main Street:geo:-85.9820789,37.8105789
END:VEVENT
END:VCALENDAR