BEGIN:VCALENDAR
VERSION:2.0
PRODID:-//Hardin County Chamber of Commerce - ECPv6.15.20//NONSGML v1.0//EN
CALSCALE:GREGORIAN
METHOD:PUBLISH
X-WR-CALNAME:Hardin County Chamber of Commerce
X-ORIGINAL-URL:https://hardinchamber.com
X-WR-CALDESC:Events for Hardin County Chamber of Commerce
REFRESH-INTERVAL;VALUE=DURATION:PT1H
X-Robots-Tag:noindex
X-PUBLISHED-TTL:PT1H
BEGIN:VTIMEZONE
TZID:America/Kentucky/Louisville
BEGIN:DAYLIGHT
TZOFFSETFROM:-0500
TZOFFSETTO:-0400
TZNAME:EDT
DTSTART:20240310T070000
END:DAYLIGHT
BEGIN:STANDARD
TZOFFSETFROM:-0400
TZOFFSETTO:-0500
TZNAME:EST
DTSTART:20241103T060000
END:STANDARD
BEGIN:DAYLIGHT
TZOFFSETFROM:-0500
TZOFFSETTO:-0400
TZNAME:EDT
DTSTART:20250309T070000
END:DAYLIGHT
BEGIN:STANDARD
TZOFFSETFROM:-0400
TZOFFSETTO:-0500
TZNAME:EST
DTSTART:20251102T060000
END:STANDARD
BEGIN:DAYLIGHT
TZOFFSETFROM:-0500
TZOFFSETTO:-0400
TZNAME:EDT
DTSTART:20260308T070000
END:DAYLIGHT
BEGIN:STANDARD
TZOFFSETFROM:-0400
TZOFFSETTO:-0500
TZNAME:EST
DTSTART:20261101T060000
END:STANDARD
END:VTIMEZONE
BEGIN:VEVENT
DTSTART;TZID=America/Kentucky/Louisville:20250813T113000
DTEND;TZID=America/Kentucky/Louisville:20250813T130000
DTSTAMP:20260423T193612
CREATED:20250703T180702Z
LAST-MODIFIED:20250729T163732Z
UID:10002059-1755084600-1755090000@hardinchamber.com
SUMMARY:Education is the Focus of the August Membership Luncheon
DESCRIPTION:   \nDon’t miss the August 13th Chamber membership luncheon\, where we will be back to school and back to business. \nOur special guest speakers will be Hardin County Schools Superintendent Mrs. Teresa Morgan and Elizabethtown Independent Schools Superintendent Mr. Paul Mullins. \nWe look forward to hearing important updates and plans for both districts for the new school year. \nJoin us at Pritchard Community Center for a great lunch\, awesome networking and valuable information. \nReserve your tickets at www.hardinchamber.com. See you there! \n\n  \nTHANK YOU TO OUR PRIMARY LUNCHEON SPONSOR\n \n  \nAs well as our Secondary Sponsors!\n                  \n 
URL:https://hardinchamber.com/event/hccc-membership-luncheon-2/
LOCATION:Pritchard Community Center\, 404 S. Mulberry St.\, Elizabethtown\, KY\, 42701
CATEGORIES:Chamber Newsletter,Community Announcement,Network,Promote
ATTACH;FMTTYPE=image/png:https://hardinchamber.com/wp-content/uploads/2016/06/fillLogo.png
GEO:37.6907739;-85.8651759
X-APPLE-STRUCTURED-LOCATION;VALUE=URI;X-ADDRESS=Pritchard Community Center 404 S. Mulberry St. Elizabethtown KY 42701;X-APPLE-RADIUS=500;X-TITLE=404 S. Mulberry St.:geo:-85.8651759,37.6907739
END:VEVENT
END:VCALENDAR