BEGIN:VCALENDAR
VERSION:2.0
PRODID:-//Hardin County Chamber of Commerce - ECPv6.15.20//NONSGML v1.0//EN
CALSCALE:GREGORIAN
METHOD:PUBLISH
X-ORIGINAL-URL:https://hardinchamber.com
X-WR-CALDESC:Events for Hardin County Chamber of Commerce
REFRESH-INTERVAL;VALUE=DURATION:PT1H
X-Robots-Tag:noindex
X-PUBLISHED-TTL:PT1H
BEGIN:VTIMEZONE
TZID:America/Kentucky/Louisville
BEGIN:DAYLIGHT
TZOFFSETFROM:-0500
TZOFFSETTO:-0400
TZNAME:EDT
DTSTART:20240310T070000
END:DAYLIGHT
BEGIN:STANDARD
TZOFFSETFROM:-0400
TZOFFSETTO:-0500
TZNAME:EST
DTSTART:20241103T060000
END:STANDARD
BEGIN:DAYLIGHT
TZOFFSETFROM:-0500
TZOFFSETTO:-0400
TZNAME:EDT
DTSTART:20250309T070000
END:DAYLIGHT
BEGIN:STANDARD
TZOFFSETFROM:-0400
TZOFFSETTO:-0500
TZNAME:EST
DTSTART:20251102T060000
END:STANDARD
BEGIN:DAYLIGHT
TZOFFSETFROM:-0500
TZOFFSETTO:-0400
TZNAME:EDT
DTSTART:20260308T070000
END:DAYLIGHT
BEGIN:STANDARD
TZOFFSETFROM:-0400
TZOFFSETTO:-0500
TZNAME:EST
DTSTART:20261101T060000
END:STANDARD
END:VTIMEZONE
BEGIN:VEVENT
DTSTART;TZID=America/Kentucky/Louisville:20250708T163000
DTEND;TZID=America/Kentucky/Louisville:20250708T183000
DTSTAMP:20260423T211936
CREATED:20250701T181410Z
LAST-MODIFIED:20250706T194145Z
UID:10002056-1751992200-1751999400@hardinchamber.com
SUMMARY:KAM OFF THE CLOCK\, Manufacturers Networking Event
DESCRIPTION:  \nIt’s back! \nThe Hardin County Chamber of Commerce is excited to once again partner with the Kentucky Association of Manufacturers to host a special networking event\, sponsored by Metalsa\, on July 8\, 2025. \nYou’re invited to join us to hear from industry leaders and local officials about manufacturing in our region and across the Commonwealth. Don’t miss this opportunity to network\, engage and learn. \nWe hope to see you there! \n \nKAM OFF THE CLOCK\nMANUFACTURERS NETWORKING EVENT\nTuesday\, July 8\n4:30 pm – 6:30 pm\nRoom 62 Event Center\n444 N. Mulberry Street\nElizabethtown\, KY  42701\n  \nJoin the Kentucky Association of Manufacturers and the Hardin County Chamber of Commerce for a happy hour networking event! Light bites and beverages with be available.\nRegistration is required and only $10\n\nPLEASE PRE-REGISTER BELOW:\n\nwww.kentuckyassociationofmanufacturers.growthzoneapp.com/events/Details/kam-off-the-clock-elizabethtown-ky-1410935?sourceTypeId=Website&fbclid=IwY2xjawLRBsFleHRuA2FlbQIxMABicmlkETFtd3RVbDFxZExUWUZrTmRTAR4HeGmp7vrj_HDfX4ZB1ts5FrgRqA1sfXMpD5vNRtE151fXqJDiL5FtFMWw5w_aem_aB91Mt7aMqmIfgoZs8TJ0A\n\n 
URL:https://hardinchamber.com/event/kam-off-the-clock-2/
LOCATION:Room 62 Event Center\, 444 N. Mulberry Street\, Elizabethtown\, 42701\, United States
CATEGORIES:After Hours,Chamber Newsletter,Community Announcement,Network,Promote
ATTACH;FMTTYPE=image/png:https://hardinchamber.com/wp-content/uploads/2016/06/fillLogo.png
GEO:37.6995178;-85.8547035
X-APPLE-STRUCTURED-LOCATION;VALUE=URI;X-ADDRESS=Room 62 Event Center 444 N. Mulberry Street Elizabethtown 42701 United States;X-APPLE-RADIUS=500;X-TITLE=444 N. Mulberry Street:geo:-85.8547035,37.6995178
END:VEVENT
BEGIN:VEVENT
DTSTART;TZID=America/Kentucky/Louisville:20250724T180000
DTEND;TZID=America/Kentucky/Louisville:20250724T200000
DTSTAMP:20260423T211936
CREATED:20250606T192710Z
LAST-MODIFIED:20250703T192709Z
UID:10001844-1753380000-1753387200@hardinchamber.com
SUMMARY:HCCC Annual Meeting Awards Dinner
DESCRIPTION:Get your ticket(s) NOW: https://hardinchamber.com/\n 
URL:https://hardinchamber.com/event/hccc-annual-meeting-awards-dinner/
LOCATION:The Haycraft\, 319 E. Dixie Avenue\, Elizabethtown\, 42701\, United States
CATEGORIES:Chamber Newsletter,Network,Promote
ATTACH;FMTTYPE=image/png:https://hardinchamber.com/wp-content/uploads/2016/06/fillLogo.png
GEO:37.6910471;-85.8550197
X-APPLE-STRUCTURED-LOCATION;VALUE=URI;X-ADDRESS=The Haycraft 319 E. Dixie Avenue Elizabethtown 42701 United States;X-APPLE-RADIUS=500;X-TITLE=319 E. Dixie Avenue:geo:-85.8550197,37.6910471
END:VEVENT
BEGIN:VEVENT
DTSTART;TZID=America/Kentucky/Louisville:20250728T170000
DTEND;TZID=America/Kentucky/Louisville:20250728T183000
DTSTAMP:20260423T211936
CREATED:20250711T215545Z
LAST-MODIFIED:20250711T215545Z
UID:10002066-1753722000-1753727400@hardinchamber.com
SUMMARY:Young Professionals Network Summer Soiree
DESCRIPTION:Hey Young Professionals! \nAre you looking for an opportunity to network\, meet new people\, build relationships\, volunteer and grow professionally? Then the Young Professionals Network is for YOU! \nPlease join us for a Summer Soiree on July 28\, 2025 at Revival Vintage Spirits in Elizabethtown. The gathering will take place from 5:00-6:30pm and it will provide an opportunity for you to connect with new people\, visit with familiar faces and learn about YPN. \nIf you are 21-41 years of age\, please check out YPN and join us for a relaxed evening of friendship and fellowship on July 28th \nRSVP to Kendra at Kendra@hardinchamber.com or 270-765-4334. We’ll see you there! \n 
URL:https://hardinchamber.com/event/young-professionals-network-summer-soiree/
LOCATION:Revial Vintage Spirits\, 220 Helm St.\, Elizabethtown\, KY\, 42701
CATEGORIES:After Hours,Chamber Newsletter,Community Announcement,Promote
ATTACH;FMTTYPE=image/png:https://hardinchamber.com/wp-content/uploads/2016/06/fillLogo.png
GEO:37.6935244;-85.8621598
X-APPLE-STRUCTURED-LOCATION;VALUE=URI;X-ADDRESS=Revial Vintage Spirits 220 Helm St. Elizabethtown KY 42701;X-APPLE-RADIUS=500;X-TITLE=220 Helm St.:geo:-85.8621598,37.6935244
END:VEVENT
END:VCALENDAR