BEGIN:VCALENDAR
VERSION:2.0
PRODID:-//Hardin County Chamber of Commerce - ECPv6.15.20//NONSGML v1.0//EN
CALSCALE:GREGORIAN
METHOD:PUBLISH
X-ORIGINAL-URL:https://hardinchamber.com
X-WR-CALDESC:Events for Hardin County Chamber of Commerce
REFRESH-INTERVAL;VALUE=DURATION:PT1H
X-Robots-Tag:noindex
X-PUBLISHED-TTL:PT1H
BEGIN:VTIMEZONE
TZID:America/Kentucky/Louisville
BEGIN:DAYLIGHT
TZOFFSETFROM:-0500
TZOFFSETTO:-0400
TZNAME:EDT
DTSTART:20180311T070000
END:DAYLIGHT
BEGIN:STANDARD
TZOFFSETFROM:-0400
TZOFFSETTO:-0500
TZNAME:EST
DTSTART:20181104T060000
END:STANDARD
BEGIN:DAYLIGHT
TZOFFSETFROM:-0500
TZOFFSETTO:-0400
TZNAME:EDT
DTSTART:20190310T070000
END:DAYLIGHT
BEGIN:STANDARD
TZOFFSETFROM:-0400
TZOFFSETTO:-0500
TZNAME:EST
DTSTART:20191103T060000
END:STANDARD
BEGIN:DAYLIGHT
TZOFFSETFROM:-0500
TZOFFSETTO:-0400
TZNAME:EDT
DTSTART:20200308T070000
END:DAYLIGHT
BEGIN:STANDARD
TZOFFSETFROM:-0400
TZOFFSETTO:-0500
TZNAME:EST
DTSTART:20201101T060000
END:STANDARD
END:VTIMEZONE
BEGIN:VEVENT
DTSTART;TZID=America/Kentucky/Louisville:20190801T110000
DTEND;TZID=America/Kentucky/Louisville:20190801T110000
DTSTAMP:20260420T091501
CREATED:20190719T194531Z
LAST-MODIFIED:20190719T194531Z
UID:10001769-1564657200-1564657200@hardinchamber.com
SUMMARY:HARDIN COUNTY HABITAT FOR HUMANITY GROUNDBREAKING CEREMONY!
DESCRIPTION:Join us as we break ground on the new home of the Hardin Habitat ReStore and administrative office. \nThis will be the first time in our affiliates’s history that all operations have been under one roof! \nLink to RSVP: https://habitatgroundbreaking.app.rsvpify.com \nRichelle Meyers \nChief Operating Officer \n(270) 360-9900 (270)317-1731 \n1205 N. Dixie Avenue\, Suite 104 \nElizabethtown\, KY 42701 \nwww.hardinhabitat.com \n  \n 
URL:https://hardinchamber.com/event/hardin-county-habitat-for-humanity-groundbreaking-ceremony/
LOCATION:Elizabethtown\, KY\, 42701
CATEGORIES:Community Announcement,Develop,Network,Promote
ATTACH;FMTTYPE=image/png:https://hardinchamber.com/wp-content/uploads/2016/06/fillLogo.png
GEO:37.7030646;-85.8649408
END:VEVENT
END:VCALENDAR