BEGIN:VCALENDAR
VERSION:2.0
PRODID:-//Hardin County Chamber of Commerce - ECPv6.15.20//NONSGML v1.0//EN
CALSCALE:GREGORIAN
METHOD:PUBLISH
X-ORIGINAL-URL:https://hardinchamber.com
X-WR-CALDESC:Events for Hardin County Chamber of Commerce
REFRESH-INTERVAL;VALUE=DURATION:PT1H
X-Robots-Tag:noindex
X-PUBLISHED-TTL:PT1H
BEGIN:VTIMEZONE
TZID:America/Kentucky/Louisville
BEGIN:DAYLIGHT
TZOFFSETFROM:-0500
TZOFFSETTO:-0400
TZNAME:EDT
DTSTART:20250309T070000
END:DAYLIGHT
BEGIN:STANDARD
TZOFFSETFROM:-0400
TZOFFSETTO:-0500
TZNAME:EST
DTSTART:20251102T060000
END:STANDARD
BEGIN:DAYLIGHT
TZOFFSETFROM:-0500
TZOFFSETTO:-0400
TZNAME:EDT
DTSTART:20260308T070000
END:DAYLIGHT
BEGIN:STANDARD
TZOFFSETFROM:-0400
TZOFFSETTO:-0500
TZNAME:EST
DTSTART:20261101T060000
END:STANDARD
BEGIN:DAYLIGHT
TZOFFSETFROM:-0500
TZOFFSETTO:-0400
TZNAME:EDT
DTSTART:20270314T070000
END:DAYLIGHT
BEGIN:STANDARD
TZOFFSETFROM:-0400
TZOFFSETTO:-0500
TZNAME:EST
DTSTART:20271107T060000
END:STANDARD
END:VTIMEZONE
BEGIN:VEVENT
DTSTART;TZID=America/Kentucky/Louisville:20260423T120000
DTEND;TZID=America/Kentucky/Louisville:20260423T130000
DTSTAMP:20260425T083705
CREATED:20260402T164433Z
LAST-MODIFIED:20260402T164433Z
UID:10002191-1776945600-1776949200@hardinchamber.com
SUMMARY:RIBBON CUTTING: Cornerstone Caregiving
DESCRIPTION:
URL:https://hardinchamber.com/event/ribbon-cutting-cornerstone-caregiving/
LOCATION:Cornerstone Caregiving\, 1230 Woodland Drive\, Suite 212\, Elizabethtown\, KY\, 42701\, United States
CATEGORIES:Chamber Newsletter,Community Announcement,Promote,Ribbon Cutting
ATTACH;FMTTYPE=image/png:https://hardinchamber.com/wp-content/uploads/2016/06/fillLogo.png
GEO:37.7188876;-85.8834262
X-APPLE-STRUCTURED-LOCATION;VALUE=URI;X-ADDRESS=Cornerstone Caregiving 1230 Woodland Drive Suite 212 Elizabethtown KY 42701 United States;X-APPLE-RADIUS=500;X-TITLE=1230 Woodland Drive\, Suite 212:geo:-85.8834262,37.7188876
END:VEVENT
BEGIN:VEVENT
DTSTART;TZID=America/Kentucky/Louisville:20260423T180000
DTEND;TZID=America/Kentucky/Louisville:20260423T193000
DTSTAMP:20260425T083705
CREATED:20260413T203355Z
LAST-MODIFIED:20260413T203629Z
UID:10002195-1776967200-1776972600@hardinchamber.com
SUMMARY:FREE Young Investors Finance Class
DESCRIPTION:
URL:https://hardinchamber.com/event/free-young-investors-finance-class/
LOCATION:Hardin County Chamber of Commerce\, 111 West Dixie Avenue\, Elizabethtown\, KY\, 42701\, United States
CATEGORIES:Chamber Newsletter,Community Announcement,Network,Promote
ATTACH;FMTTYPE=image/png:https://hardinchamber.com/wp-content/uploads/2016/06/fillLogo.png
GEO:37.6935585;-85.8585364
X-APPLE-STRUCTURED-LOCATION;VALUE=URI;X-ADDRESS=Hardin County Chamber of Commerce 111 West Dixie Avenue Elizabethtown KY 42701 United States;X-APPLE-RADIUS=500;X-TITLE=111 West Dixie Avenue:geo:-85.8585364,37.6935585
END:VEVENT
BEGIN:VEVENT
DTSTART;TZID=America/Kentucky/Louisville:20260424T083000
DTEND;TZID=America/Kentucky/Louisville:20260424T093000
DTSTAMP:20260425T083705
CREATED:20260417T190511Z
LAST-MODIFIED:20260417T190631Z
UID:10002197-1777019400-1777023000@hardinchamber.com
SUMMARY:Connect Elizabethtown: Monthly Networking Event
DESCRIPTION:
URL:https://hardinchamber.com/event/connect-elizabethtown-monthly-networking-event/
LOCATION:Shoney’s\, 1046 Executive Drive\, Elizabethtown\, KY\, 42701
CATEGORIES:Chamber Newsletter,Community Announcement,Network,Promote
ATTACH;FMTTYPE=image/png:https://hardinchamber.com/wp-content/uploads/2016/06/fillLogo.png
GEO:37.711626;-85.831866
X-APPLE-STRUCTURED-LOCATION;VALUE=URI;X-ADDRESS=Shoney’s 1046 Executive Drive Elizabethtown KY 42701;X-APPLE-RADIUS=500;X-TITLE=1046 Executive Drive:geo:-85.831866,37.711626
END:VEVENT
BEGIN:VEVENT
DTSTART;TZID=America/Kentucky/Louisville:20260508T190000
DTEND;TZID=America/Kentucky/Louisville:20260508T210000
DTSTAMP:20260425T083705
CREATED:20260424T184117Z
LAST-MODIFIED:20260424T184117Z
UID:10002198-1778266800-1778274000@hardinchamber.com
SUMMARY:Hardin County Playhouse Presents “A Few Good Men”
DESCRIPTION:Hardin County Playhouse is bringing the critically-acclaimed production of “A Few Good Men” to the stage for one weekend only in May. \nGet your tickets now to see this powerful piece\, directed by local talent Carmen Caldera-Brzoska. \nThe performances will take place at the ECTC Science Auditorium May 8th\, 9th and 10th. \nSponsorship opportunities are also available. Contact the Hardin County Playhouse at 270-351-0577\, on social media or www.hardincountyplayhouse.com. \nEnjoy the show!
URL:https://hardinchamber.com/event/hardin-county-playhouse-presents-a-few-good-men/
LOCATION:ECTC Science Auditorium\, 615 College Street Road\, Elizabethtown\, KY\, 42701\, United States
CATEGORIES:Chamber Newsletter,Community Announcement,Promote
ATTACH;FMTTYPE=image/png:https://hardinchamber.com/wp-content/uploads/2016/06/fillLogo.png
GEO:37.6901048;-85.880047
X-APPLE-STRUCTURED-LOCATION;VALUE=URI;X-ADDRESS=ECTC Science Auditorium 615 College Street Road Elizabethtown KY 42701 United States;X-APPLE-RADIUS=500;X-TITLE=615 College Street Road:geo:-85.880047,37.6901048
END:VEVENT
BEGIN:VEVENT
DTSTART;TZID=America/Kentucky/Louisville:20260522T080000
DTEND;TZID=America/Kentucky/Louisville:20260522T150000
DTSTAMP:20260425T083705
CREATED:20260316T153012Z
LAST-MODIFIED:20260316T153012Z
UID:10002179-1779436800-1779462000@hardinchamber.com
SUMMARY:SPRING GOLF SCRAMBLE
DESCRIPTION:It’s TEE TIME! \nGrab your friends\, your clubs and your best golf outfit and get ready for a fun-filled day at Heartland Golf Club for the chamber’s 40th Annual Spring Golf Scramble on May 22\, 2026 with a shotgun start at 9:00am. \nThe day will include breakfast\, lunch\, prizes\, games\, raffles\, networking and lots of fun all in support of the local business community and the Work Ethic Scholarship program\, which is a partnership between the chamber and Hardin County Schools. \nSpace is limited to 25 teams\, so don’t delay in reserving your team’s spot. Contact Melanie Parker at Melanie@hardinchamber.com or 270-765-4334 for details and information. \nThanks FORE your support! \n\n 
URL:https://hardinchamber.com/event/spring-golf-scramble-6/
LOCATION:Heartland Golf Club\, 850 Pine Valley Drive\, Elizabethtown\, KY\, 42701
CATEGORIES:Chamber Newsletter,Community Announcement,Golf Scramble,Network,Promote
ATTACH;FMTTYPE=image/png:https://hardinchamber.com/wp-content/uploads/2016/06/fillLogo.png
GEO:37.7580154;-85.8774668
X-APPLE-STRUCTURED-LOCATION;VALUE=URI;X-ADDRESS=Heartland Golf Club 850 Pine Valley Drive Elizabethtown KY 42701;X-APPLE-RADIUS=500;X-TITLE=850 Pine Valley Drive:geo:-85.8774668,37.7580154
END:VEVENT
END:VCALENDAR