BEGIN:VCALENDAR
VERSION:2.0
PRODID:-//Hardin County Chamber of Commerce - ECPv6.15.20//NONSGML v1.0//EN
CALSCALE:GREGORIAN
METHOD:PUBLISH
X-WR-CALNAME:Hardin County Chamber of Commerce
X-ORIGINAL-URL:https://hardinchamber.com
X-WR-CALDESC:Events for Hardin County Chamber of Commerce
REFRESH-INTERVAL;VALUE=DURATION:PT1H
X-Robots-Tag:noindex
X-PUBLISHED-TTL:PT1H
BEGIN:VTIMEZONE
TZID:America/Kentucky/Louisville
BEGIN:DAYLIGHT
TZOFFSETFROM:-0500
TZOFFSETTO:-0400
TZNAME:EDT
DTSTART:20250309T070000
END:DAYLIGHT
BEGIN:STANDARD
TZOFFSETFROM:-0400
TZOFFSETTO:-0500
TZNAME:EST
DTSTART:20251102T060000
END:STANDARD
BEGIN:DAYLIGHT
TZOFFSETFROM:-0500
TZOFFSETTO:-0400
TZNAME:EDT
DTSTART:20260308T070000
END:DAYLIGHT
BEGIN:STANDARD
TZOFFSETFROM:-0400
TZOFFSETTO:-0500
TZNAME:EST
DTSTART:20261101T060000
END:STANDARD
BEGIN:DAYLIGHT
TZOFFSETFROM:-0500
TZOFFSETTO:-0400
TZNAME:EDT
DTSTART:20270314T070000
END:DAYLIGHT
BEGIN:STANDARD
TZOFFSETFROM:-0400
TZOFFSETTO:-0500
TZNAME:EST
DTSTART:20271107T060000
END:STANDARD
END:VTIMEZONE
BEGIN:VEVENT
DTSTART;TZID=America/Kentucky/Louisville:20260321T100000
DTEND;TZID=America/Kentucky/Louisville:20260321T170000
DTSTAMP:20260425T161720
CREATED:20260225T223233Z
LAST-MODIFIED:20260225T223233Z
UID:10002166-1774087200-1774112400@hardinchamber.com
SUMMARY:Brown-Pusey House Antique HOUSE Show
DESCRIPTION:Attention collectors\, antique hunters\, history buffs and enthusiasts! You’re invited to take a journey through time with the Brown-Pusey House. \nThe Brown-Pusey House is hosting a unique opportunity on March 21 and 22 with its Antique “HOUSE” Show. \nMr. J.T. Thompson\, a knowledgeable and experienced appraiser\, will be on hand to appraise your items and offer feedback and research on items. He specializes in antique\, decorative and fine art appraisals. \nThe event will also include vendors\, refreshments and more. Stop by to find your next treasure! \nThe Antique “HOUSE” Show will take place March 21 from 10am-5pm and March 22 from 12pm-4pm at the historic and iconic Brown-Pusey House in downtown Elizabethtown. \nFor more information\, contact Carolyn Ritchie at carolyn.ritchie@comcast.net. \n  \n 
URL:https://hardinchamber.com/event/brown-pusey-house-antique-house-show/
LOCATION:The Brown-Pusey House\, 128 N. Main St.\, Elizabethtown\, KY\, 42701
CATEGORIES:Chamber Newsletter,Community Announcement,Promote
ATTACH;FMTTYPE=image/png:https://hardinchamber.com/wp-content/uploads/2016/06/fillLogo.png
GEO:37.6941637;-85.8573254
X-APPLE-STRUCTURED-LOCATION;VALUE=URI;X-ADDRESS=The Brown-Pusey House 128 N. Main St. Elizabethtown KY 42701;X-APPLE-RADIUS=500;X-TITLE=128 N. Main St.:geo:-85.8573254,37.6941637
END:VEVENT
END:VCALENDAR